BEGIN:VCALENDAR
VERSION:2.0
PRODID:-//wp-events-plugin.com//7.2.3.1//EN
TZID:America/Chicago
X-WR-TIMEZONE:America/Chicago
BEGIN:VEVENT
UID:1357@bbcmkids.org
DTSTART;TZID=America/Chicago:20260516T170000
DTEND;TZID=America/Chicago:20260516T200000
DTSTAMP:20260420T144509Z
URL:https://bbcmkids.org/events/bedtime-at-betty-brinn-2/
SUMMARY:Bedtime at Betty Brinn
DESCRIPTION:\n\n	It's time to get cozy at Betty Brinn with an exclusive\, m
 embers-only p.j. party! Put on your coziest pajamas\, grab your favorite s
 tuffed animal and join us for an evening full of fun for the whole family!
 \nTickets are on sale now at just $5 per person.\nTicket includes pizza\, 
 compliments of Palermo's\, and a sweet treat to top off the night!\n\n
ATTACH;FMTTYPE=image/jpeg:https://bbcmkids.org/wp-content/uploads/2026/04/
 3-scaled.jpg
CATEGORIES:Special Performers / Events
END:VEVENT
BEGIN:VTIMEZONE
TZID:America/Chicago
X-LIC-LOCATION:America/Chicago
BEGIN:DAYLIGHT
DTSTART:20260308T030000
TZOFFSETFROM:-0600
TZOFFSETTO:-0500
TZNAME:CDT
END:DAYLIGHT
END:VTIMEZONE
END:VCALENDAR