BEGIN:VCALENDAR
VERSION:2.0
PRODID:-//wp-events-plugin.com//7.2.3.1//EN
TZID:America/Chicago
X-WR-TIMEZONE:America/Chicago
BEGIN:VEVENT
UID:940@bbcmkids.org
DTSTART;TZID=America/Chicago:20250424T100000
DTEND;TZID=America/Chicago:20250424T130000
DTSTAMP:20250219T162316Z
URL:https://bbcmkids.org/events/birthday-hat-making-3/
SUMMARY:Birthday Hat Making
DESCRIPTION:The Museum turns 30 this month! Come and make your own party ha
 t to help celebrate.
ATTACH;FMTTYPE=image/jpeg:https://bbcmkids.org/wp-content/uploads/2025/02/
 BAM-Birthday-Hat.png
END:VEVENT
BEGIN:VTIMEZONE
TZID:America/Chicago
X-LIC-LOCATION:America/Chicago
BEGIN:DAYLIGHT
DTSTART:20250309T030000
TZOFFSETFROM:-0600
TZOFFSETTO:-0500
TZNAME:CDT
END:DAYLIGHT
END:VTIMEZONE
END:VCALENDAR