BEGIN:VCALENDAR
VERSION:2.0
PRODID:-//wp-events-plugin.com//7.2.3.1//EN
TZID:America/Chicago
X-WR-TIMEZONE:America/Chicago
BEGIN:VEVENT
UID:1004@bbcmkids.org
DTSTART;TZID=America/Chicago:20250418T103000
DTEND;TZID=America/Chicago:20250418T113000
DTSTAMP:20250402T154420Z
URL:https://bbcmkids.org/events/hands-on-hawaii-2/
SUMMARY:Hands on Hawai‘i
DESCRIPTION:Join Nā-Hale Studios for Hands on Hawai‘i on April 18 from 1
 0:30–11:30 a.m.! Immerse yourself in the rich cultures of Hawai‘i and 
 Polynesia through interactive activities and traditional practices. Don’
 t miss this hands-on cultural experience! 🌺
ATTACH;FMTTYPE=image/jpeg:https://bbcmkids.org/wp-content/uploads/2025/04/
 4.8-na-hale-fb.png
CATEGORIES:Special Performers / Events
END:VEVENT
BEGIN:VTIMEZONE
TZID:America/Chicago
X-LIC-LOCATION:America/Chicago
BEGIN:DAYLIGHT
DTSTART:20250309T030000
TZOFFSETFROM:-0600
TZOFFSETTO:-0500
TZNAME:CDT
END:DAYLIGHT
END:VTIMEZONE
END:VCALENDAR