BEGIN:VCALENDAR
VERSION:2.0
PRODID:-//wp-events-plugin.com//7.2.3.1//EN
TZID:America/Chicago
X-WR-TIMEZONE:America/Chicago
BEGIN:VEVENT
UID:1257@bbcmkids.org
DTSTART;TZID=America/Chicago:20260326T100000
DTEND;TZID=America/Chicago:20260326T104500
DTSTAMP:20260223T153337Z
URL:https://bbcmkids.org/events/hands-on-hawaii-3/
SUMMARY:Hands-On Hawaii
DESCRIPTION:Join the Hale O Malo dancers on a journey across the Polynesi
 an Pacific with authentic songs\, costumes and dances.
ATTACH;FMTTYPE=image/jpeg:https://bbcmkids.org/wp-content/uploads/2024/10/
 HandsOnHawaii-3.jpg
CATEGORIES:Special Performers / Events
END:VEVENT
BEGIN:VTIMEZONE
TZID:America/Chicago
X-LIC-LOCATION:America/Chicago
BEGIN:DAYLIGHT
DTSTART:20260308T030000
TZOFFSETFROM:-0600
TZOFFSETTO:-0500
TZNAME:CDT
END:DAYLIGHT
END:VTIMEZONE
END:VCALENDAR