BEGIN:VCALENDAR
VERSION:2.0
PRODID:-//wp-events-plugin.com//7.2.3.1//EN
TZID:America/Chicago
X-WR-TIMEZONE:America/Chicago
BEGIN:VEVENT
UID:1355@bbcmkids.org
DTSTART;TZID=America/Chicago:20260422T103000
DTEND;TZID=America/Chicago:20260422T123000
DTSTAMP:20260406T160652Z
URL:https://bbcmkids.org/events/herb-planting/
SUMMARY:Earth Day Herb Planting
DESCRIPTION:Celebrate Earth Day by planting herbs with the Wisconsin 4-H Cl
 overbuds from 10 a.m.-12 p.m. and make DIY plant observation journals duri
 ng Be A Maker: Lab at 11 a.m. and 1 p.m.
ATTACH;FMTTYPE=image/jpeg:https://bbcmkids.org/wp-content/uploads/2025/06/
 IMG_9141-2-scaled.jpg
CATEGORIES:Special Performers / Events
END:VEVENT
BEGIN:VTIMEZONE
TZID:America/Chicago
X-LIC-LOCATION:America/Chicago
BEGIN:DAYLIGHT
DTSTART:20260308T030000
TZOFFSETFROM:-0600
TZOFFSETTO:-0500
TZNAME:CDT
END:DAYLIGHT
END:VTIMEZONE
END:VCALENDAR