BEGIN:VCALENDAR
VERSION:2.0
PRODID:-//wp-events-plugin.com//7.2.3.1//EN
TZID:America/Chicago
X-WR-TIMEZONE:America/Chicago
BEGIN:VEVENT
UID:1255@bbcmkids.org
DTSTART;TZID=America/Chicago:20260319T120000
DTEND;TZID=America/Chicago:20260319T123000
DTSTAMP:20260223T152813Z
URL:https://bbcmkids.org/events/making-music-sensory-rain-stick/
SUMMARY:Making Music: Sensory Rain Stick
DESCRIPTION:Join our Artist-in-Residence for a hands-on musical experience 
 by learning how to use common home materials to create a DIY sensory rain 
 stick instrument.
ATTACH;FMTTYPE=image/jpeg:https://bbcmkids.org/wp-content/uploads/2026/01/
 IMG_9252-2.jpg
CATEGORIES:Artist in Residence,Special Performers / Events
END:VEVENT
BEGIN:VTIMEZONE
TZID:America/Chicago
X-LIC-LOCATION:America/Chicago
BEGIN:DAYLIGHT
DTSTART:20260308T030000
TZOFFSETFROM:-0600
TZOFFSETTO:-0500
TZNAME:CDT
END:DAYLIGHT
END:VTIMEZONE
END:VCALENDAR