BEGIN:VCALENDAR
VERSION:2.0
PRODID:-//wp-events-plugin.com//7.2.3.1//EN
TZID:America/Chicago
X-WR-TIMEZONE:America/Chicago
BEGIN:VEVENT
UID:1356@bbcmkids.org
DTSTART;TZID=America/Chicago:20260522T120000
DTEND;TZID=America/Chicago:20260522T140000
DTSTAMP:20260420T143100Z
URL:https://bbcmkids.org/events/meet-and-greet/
SUMMARY:Meet and Greet
DESCRIPTION:EmBARK on a Museum adventure with your favorite Blue Heeler! Th
 e loveable pup will be at the Betty Brinn Children’s Museum on Friday\, 
 May 22 from 12-2 p.m. to say "Hooray!" and take photos with Museum guests.
  Included with Museum admission.
ATTACH;FMTTYPE=image/jpeg:https://bbcmkids.org/wp-content/uploads/2026/04/
 Bluey-Day-header-1920-x-1080-px-scaled.jpg
CATEGORIES:Special Performers / Events
END:VEVENT
BEGIN:VTIMEZONE
TZID:America/Chicago
X-LIC-LOCATION:America/Chicago
BEGIN:DAYLIGHT
DTSTART:20260308T030000
TZOFFSETFROM:-0600
TZOFFSETTO:-0500
TZNAME:CDT
END:DAYLIGHT
END:VTIMEZONE
END:VCALENDAR