BEGIN:VCALENDAR
VERSION:2.0
PRODID:-//wp-events-plugin.com//7.2.3.1//EN
TZID:America/Chicago
X-WR-TIMEZONE:America/Chicago
BEGIN:VEVENT
UID:1349@bbcmkids.org
DTSTART;TZID=America/Chicago:20260409T100000
DTEND;TZID=America/Chicago:20260409T110000
DTSTAMP:20260407T190638Z
URL:https://bbcmkids.org/events/panadanza-dance-performance-3/
SUMMARY:Panadanza Dance Performance
DESCRIPTION:\nLearn about Afro-Latin dance and culture with Panadanza Dance
  Company! Participants will be able to experience traditional dances and w
 ill have the opportunity to dress up and dance along with the instructor. 
 This program is supported in part by a grant from the Wisconsin Arts Board
  with funds from the State of Wisconsin and the National Endowment for the
  Arts.\n\n\n
ATTACH;FMTTYPE=image/jpeg:https://bbcmkids.org/wp-content/uploads/2025/09/
 Panadanza-Dance-Company-scaled.jpg
CATEGORIES:Special Performers / Events
END:VEVENT
BEGIN:VTIMEZONE
TZID:America/Chicago
X-LIC-LOCATION:America/Chicago
BEGIN:DAYLIGHT
DTSTART:20260308T030000
TZOFFSETFROM:-0600
TZOFFSETTO:-0500
TZNAME:CDT
END:DAYLIGHT
END:VTIMEZONE
END:VCALENDAR