BEGIN:VCALENDAR
VERSION:2.0
PRODID:-//wp-events-plugin.com//7.2.3.1//EN
TZID:America/Chicago
X-WR-TIMEZONE:America/Chicago
BEGIN:VEVENT
UID:1184@bbcmkids.org
DTSTART;TZID=America/Chicago:20260606T170000
DTEND;TZID=America/Chicago:20260606T190000
DTSTAMP:20260105T183859Z
URL:https://bbcmkids.org/events/sensory-friendly-session-2026-06-06/
SUMMARY:Sensory-Friendly Session
DESCRIPTION:Families can enjoy the Museum experience in a calmer\, quieter 
 space during these special evening sessions on the first Saturday of every
  month from 5-7 p.m.
ATTACH;FMTTYPE=image/jpeg:https://bbcmkids.org/wp-content/uploads/2024/09/
 sensory-friendly_session.jpg
CATEGORIES:Special Performers / Events
END:VEVENT
BEGIN:VTIMEZONE
TZID:America/Chicago
X-LIC-LOCATION:America/Chicago
BEGIN:DAYLIGHT
DTSTART:20260308T030000
TZOFFSETFROM:-0600
TZOFFSETTO:-0500
TZNAME:CDT
END:DAYLIGHT
END:VTIMEZONE
END:VCALENDAR