BEGIN:VCALENDAR
VERSION:2.0
PRODID:-//wp-events-plugin.com//7.2.3.1//EN
TZID:America/Chicago
X-WR-TIMEZONE:America/Chicago
BEGIN:VEVENT
UID:1353@bbcmkids.org
DTSTART;TZID=America/Chicago:20260321T100000
DTEND;TZID=America/Chicago:20260321T110000
DTSTAMP:20260317T180952Z
URL:https://bbcmkids.org/events/studio-saturday-cricket-chinese-academy/
SUMMARY:Studio Saturday: Cricket Chinese Academy
DESCRIPTION:Dive into Chinese culture during Studio Saturdays with Cricket 
 Chinese Academy! Kids and families can get hands-on with traditional activ
 ities such as Chinese calligraphy\, chopstick challenges\, and festival-in
 spired crafts.
ATTACH;FMTTYPE=image/jpeg:https://bbcmkids.org/wp-content/uploads/2026/03/
 20240720_124945-1-scaled-e1773770978822.jpg
CATEGORIES:Special Performers / Events
END:VEVENT
BEGIN:VTIMEZONE
TZID:America/Chicago
X-LIC-LOCATION:America/Chicago
BEGIN:DAYLIGHT
DTSTART:20260308T030000
TZOFFSETFROM:-0600
TZOFFSETTO:-0500
TZNAME:CDT
END:DAYLIGHT
END:VTIMEZONE
END:VCALENDAR