BEGIN:VCALENDAR
VERSION:2.0
PRODID:-//wp-events-plugin.com//7.2.3.1//EN
TZID:America/Chicago
X-WR-TIMEZONE:America/Chicago
BEGIN:VEVENT
UID:1258@bbcmkids.org
DTSTART;TZID=America/Chicago:20260330T113000
DTEND;TZID=America/Chicago:20260330T121500
DTSTAMP:20260223T153618Z
URL:https://bbcmkids.org/events/toddler-music-class-6/
SUMMARY:Toddler Music Class
DESCRIPTION:Join the Wisconsin Conservatory of Music for a Smart Start™ c
 lass and let your children develop important cognitive skills through play
 ful activities like music\, movement\, games and stories!\n\nSmart Start
 ™ teaches children how to learn. Songs and activities are carefully cho
 sen to match each age group’s specific developmental needs.
ATTACH;FMTTYPE=image/jpeg:https://bbcmkids.org/wp-content/uploads/2025/10/
 IMG_9185.jpg
CATEGORIES:Special Performers / Events
END:VEVENT
BEGIN:VTIMEZONE
TZID:America/Chicago
X-LIC-LOCATION:America/Chicago
BEGIN:DAYLIGHT
DTSTART:20260308T030000
TZOFFSETFROM:-0600
TZOFFSETTO:-0500
TZNAME:CDT
END:DAYLIGHT
END:VTIMEZONE
END:VCALENDAR