BEGIN:VCALENDAR
VERSION:2.0
PRODID:-//wp-events-plugin.com//7.2.3.1//EN
TZID:America/Chicago
X-WR-TIMEZONE:America/Chicago
BEGIN:VEVENT
UID:1219@bbcmkids.org
DTSTART;TZID=America/Chicago:20260202T100000
DTEND;TZID=America/Chicago:20260202T103000
DTSTAMP:20260120T160854Z
URL:https://bbcmkids.org/events/toddler-talkback-3/
SUMMARY:Toddler Talkback
DESCRIPTION:Join Malik for our Toddler Talkback series\, where your little 
 ones can get involved\, share their thoughts\, and explore social-emotio
 nal learning areas like positive self-expression and dreaming big dreams. 
ATTACH;FMTTYPE=image/jpeg:https://bbcmkids.org/wp-content/uploads/2026/01/
 IMG_9252-2.jpg
CATEGORIES:Artist in Residence,Special Performers / Events
END:VEVENT
BEGIN:VTIMEZONE
TZID:America/Chicago
X-LIC-LOCATION:America/Chicago
BEGIN:STANDARD
DTSTART:20251102T010000
TZOFFSETFROM:-0500
TZOFFSETTO:-0600
TZNAME:CST
END:STANDARD
END:VTIMEZONE
END:VCALENDAR