BEGIN:VCALENDAR
VERSION:2.0
PRODID:-//wp-events-plugin.com//7.2.3.1//EN
TZID:America/Chicago
X-WR-TIMEZONE:America/Chicago
BEGIN:VEVENT
UID:1346@bbcmkids.org
DTSTART;TZID=America/Chicago:20260406T100000
DTEND;TZID=America/Chicago:20260406T103000
DTSTAMP:20260318T211451Z
URL:https://bbcmkids.org/events/toddler-talkback-5/
SUMMARY:Toddler Talkback
DESCRIPTION:Explore positive self-expression through a guided\, hands-on mu
 sical experience led by Malik Johnson and Carter Simmons. Using live cello
 \, conducting\, and interactive activities\, participants will engage in r
 hythm\, tempo\, and pattern recognition through familiar music such as Twi
 nkle\, Twinkle\, Little Star.
ATTACH;FMTTYPE=image/jpeg:https://bbcmkids.org/wp-content/uploads/2026/01/
 IMG_9252-2.jpg
CATEGORIES:Artist in Residence,Special Performers / Events
END:VEVENT
BEGIN:VTIMEZONE
TZID:America/Chicago
X-LIC-LOCATION:America/Chicago
BEGIN:DAYLIGHT
DTSTART:20260308T030000
TZOFFSETFROM:-0600
TZOFFSETTO:-0500
TZNAME:CDT
END:DAYLIGHT
END:VTIMEZONE
END:VCALENDAR